BEGIN:VCALENDAR
VERSION:2.0
PRODID:-//CHRIS Sorgentelefon - ECPv6.15.18//NONSGML v1.0//EN
CALSCALE:GREGORIAN
METHOD:PUBLISH
X-WR-CALNAME:CHRIS Sorgentelefon
X-ORIGINAL-URL:https://www.chris-sorgentelefon.de
X-WR-CALDESC:Veranstaltungen für CHRIS Sorgentelefon
REFRESH-INTERVAL;VALUE=DURATION:PT1H
X-Robots-Tag:noindex
X-PUBLISHED-TTL:PT1H
BEGIN:VTIMEZONE
TZID:Europe/Berlin
BEGIN:DAYLIGHT
TZOFFSETFROM:+0100
TZOFFSETTO:+0200
TZNAME:CEST
DTSTART:20240331T010000
END:DAYLIGHT
BEGIN:STANDARD
TZOFFSETFROM:+0200
TZOFFSETTO:+0100
TZNAME:CET
DTSTART:20241027T010000
END:STANDARD
BEGIN:DAYLIGHT
TZOFFSETFROM:+0100
TZOFFSETTO:+0200
TZNAME:CEST
DTSTART:20250330T010000
END:DAYLIGHT
BEGIN:STANDARD
TZOFFSETFROM:+0200
TZOFFSETTO:+0100
TZNAME:CET
DTSTART:20251026T010000
END:STANDARD
BEGIN:DAYLIGHT
TZOFFSETFROM:+0100
TZOFFSETTO:+0200
TZNAME:CEST
DTSTART:20260329T010000
END:DAYLIGHT
BEGIN:STANDARD
TZOFFSETFROM:+0200
TZOFFSETTO:+0100
TZNAME:CET
DTSTART:20261025T010000
END:STANDARD
END:VTIMEZONE
BEGIN:VEVENT
DTSTART;TZID=Europe/Berlin:20251113T190000
DTEND;TZID=Europe/Berlin:20251113T210000
DTSTAMP:20260422T152957
CREATED:20250526T120737Z
LAST-MODIFIED:20250721T141142Z
UID:26364-1763060400-1763067600@www.chris-sorgentelefon.de
SUMMARY:CHRIS Seminar: Wenn Schmerz äußerlich sichtbar wird (Verstehen\, was hinter selbstverletzendem Verhalten steckt)
DESCRIPTION:Seminar für Mitarbeitende in der Kinder- und Jugendarbeit und für Interessierte.\n\n\n\n \n\n\n\nMenschen reagieren oft erschrocken und aufgeregt\, wenn sie hören\, dass ein Kind oder jemand aus dem Familien- oder Freundeskreis sich selbst verletzt. Das Seminar möchte Einblick geben\, was selbstverletzendes Verhalten ist und welche Hilfen möglich sind. Es soll Verständnis fördern\, Berührungsängste verringern und Wege aufzeigen\, wie Betroffene unterstützt werden können. \n\n\n\nReferentin:\n\n\n\nMaren Tenel ist Mitarbeiterin bei Team f\, einer Beratungsorganisation\, die sich für ein gelingendes Miteinander in Familie und Gesellschaft einsetzt. Sie führt traumazentrierte Fachberatungen durch und ist im Bereich Seelsorge tätig. \n\n\n\nDetails zum Seminar:\n\n\n\nDas Seminar findet online statt. Der Link zur Teilnahme wird nach Anmeldung rechtzeitig vor Seminarbeginn per E-Mail verschickt. \n\n\n\nEs werden keine Seminargebühren erhoben. Bei Teilnahme bitten wir um eine Spende zur Kostendeckung an:IBAN: DE57 6115 0020 0104 0473 23 | Richtwert: 15\,00 € \n\n\n\nInfos & AnfragenErika BronnerTel. 07021 71391seminare@chris-sorgentelefon.de \n\n\n\nOnline-Anmeldung\n\n\n\n\n\n  \n\n\n\n Vor- und Nachname *\n\n \nE-Mail-Adresse *\n\n \nTelefon\n\n \n Bemerkungen\n\n \nBitte lasse dieses Feld leer.\nBitte lasse dieses Feld leer.\n \nWir verarbeiten Ihre Angaben ausschließlich zur Bearbeitung Ihrer Anmeldung und Durchführung des Seminars.\nDetaillierte Informationen zum Umgang mit Nutzerdaten finden Sie in unserer Datenschutzerklärung.
URL:https://www.chris-sorgentelefon.de/veranstaltung/chris-seminar-wenn-schmerz-aeusserlich-sichtbar-wird/
CATEGORIES:Seminare
END:VEVENT
END:VCALENDAR